BEGIN:VCALENDAR
VERSION:2.0
PRODID:-//Behindertenverband Leipzig e.V. - ECPv6.15.20//NONSGML v1.0//EN
CALSCALE:GREGORIAN
METHOD:PUBLISH
X-ORIGINAL-URL:https://behindertenverband-leipzig.de
X-WR-CALDESC:Veranstaltungen für Behindertenverband Leipzig e.V.
REFRESH-INTERVAL;VALUE=DURATION:PT1H
X-Robots-Tag:noindex
X-PUBLISHED-TTL:PT1H
BEGIN:VTIMEZONE
TZID:Europe/Berlin
BEGIN:DAYLIGHT
TZOFFSETFROM:+0100
TZOFFSETTO:+0200
TZNAME:CEST
DTSTART:20230326T010000
END:DAYLIGHT
BEGIN:STANDARD
TZOFFSETFROM:+0200
TZOFFSETTO:+0100
TZNAME:CET
DTSTART:20231029T010000
END:STANDARD
BEGIN:DAYLIGHT
TZOFFSETFROM:+0100
TZOFFSETTO:+0200
TZNAME:CEST
DTSTART:20240331T010000
END:DAYLIGHT
BEGIN:STANDARD
TZOFFSETFROM:+0200
TZOFFSETTO:+0100
TZNAME:CET
DTSTART:20241027T010000
END:STANDARD
BEGIN:DAYLIGHT
TZOFFSETFROM:+0100
TZOFFSETTO:+0200
TZNAME:CEST
DTSTART:20250330T010000
END:DAYLIGHT
BEGIN:STANDARD
TZOFFSETFROM:+0200
TZOFFSETTO:+0100
TZNAME:CET
DTSTART:20251026T010000
END:STANDARD
END:VTIMEZONE
BEGIN:VEVENT
DTSTART;TZID=Europe/Berlin:20240221T140000
DTEND;TZID=Europe/Berlin:20240221T163000
DTSTAMP:20260423T091222
CREATED:20240104T105731Z
LAST-MODIFIED:20240104T105733Z
UID:4084-1708524000-1708533000@behindertenverband-leipzig.de
SUMMARY:Café inklusiv(e) – Kinonachmittag
DESCRIPTION:Wir schauen uns gemeinsam einen DEFA Trickfilm „Die Leuchtturminsel“ aus dem Jahre 1976 an. \n\n\n\n„Zusammen mit dem ängstlichen Hund Mondschein bezieht Jonathan als neuer Leuchtturmwärter den Inselturm. Dieser muss erstmal kräftig gesäubert werden. Dann lernen Jonathan und Mondschein den ewig nörgelnden Ziegenbock Zacharias und den faulen Kater kennen. Das Zusammenleben aller gestaltet sich am Anfang recht schwierig. Jedoch Jonathans einfühlsame Art und seine Klugheit helfen dabei\, ein friedliches Miteinander auf der Leuchtturminsel möglich zu machen.“
URL:https://behindertenverband-leipzig.de/event/cafe-inklusive-kinonachmittag/
LOCATION:Haus der Demokratie\, Café\, Bernhard-Göring-Str. 152\, Leipzig\, 04277\, Deutschland
END:VEVENT
END:VCALENDAR