BEGIN:VCALENDAR
VERSION:2.0
PRODID:-//Behindertenverband Leipzig e.V. - ECPv6.15.20//NONSGML v1.0//EN
CALSCALE:GREGORIAN
METHOD:PUBLISH
X-WR-CALNAME:Behindertenverband Leipzig e.V.
X-ORIGINAL-URL:https://behindertenverband-leipzig.de
X-WR-CALDESC:Veranstaltungen für Behindertenverband Leipzig e.V.
REFRESH-INTERVAL;VALUE=DURATION:PT1H
X-Robots-Tag:noindex
X-PUBLISHED-TTL:PT1H
BEGIN:VTIMEZONE
TZID:Europe/Berlin
BEGIN:DAYLIGHT
TZOFFSETFROM:+0100
TZOFFSETTO:+0200
TZNAME:CEST
DTSTART:20230326T010000
END:DAYLIGHT
BEGIN:STANDARD
TZOFFSETFROM:+0200
TZOFFSETTO:+0100
TZNAME:CET
DTSTART:20231029T010000
END:STANDARD
BEGIN:DAYLIGHT
TZOFFSETFROM:+0100
TZOFFSETTO:+0200
TZNAME:CEST
DTSTART:20240331T010000
END:DAYLIGHT
BEGIN:STANDARD
TZOFFSETFROM:+0200
TZOFFSETTO:+0100
TZNAME:CET
DTSTART:20241027T010000
END:STANDARD
BEGIN:DAYLIGHT
TZOFFSETFROM:+0100
TZOFFSETTO:+0200
TZNAME:CEST
DTSTART:20250330T010000
END:DAYLIGHT
BEGIN:STANDARD
TZOFFSETFROM:+0200
TZOFFSETTO:+0100
TZNAME:CET
DTSTART:20251026T010000
END:STANDARD
END:VTIMEZONE
BEGIN:VEVENT
DTSTART;TZID=Europe/Berlin:20240116T130000
DTEND;TZID=Europe/Berlin:20240116T160000
DTSTAMP:20260423T103950
CREATED:20240103T075405Z
LAST-MODIFIED:20240103T075434Z
UID:4048-1705410000-1705420800@behindertenverband-leipzig.de
SUMMARY:E-Rolli Wandergruppe
DESCRIPTION:Liebe Wanderfreunde\,ich hoffe\, Ihr seid alle gut und gesund ins Neue Jahr gestartet und wir können wieder gemeinsam wandern. Wir treffen uns also am Dienstag\, dem 16. Januar 2024 ab 13 Uhr am Stadtgeschichtlichen Museum – Haus Böttchergäßchen. In der Studioausstellung können wir unterschiedlichste Weihnachtskrippen aus Kraków bestaunen. Wer möchte\, kann anschließend mit seiner Eintrittskarte auch die anderen Ausstellungsstücke zum Thema: „Krakauer Krippen zu Besuch in Leipzig“ im Festsaal des Alten Rathauses besichtigen.Ich wünsche uns allen eine gute Zeit und freue mich aufs Wiedersehen.Eure Gaby
URL:https://behindertenverband-leipzig.de/event/e-rolli-wandergruppe-24/
END:VEVENT
END:VCALENDAR