BEGIN:VCALENDAR
VERSION:2.0
PRODID:-//Behindertenverband Leipzig e.V. - ECPv6.15.20//NONSGML v1.0//EN
CALSCALE:GREGORIAN
METHOD:PUBLISH
X-ORIGINAL-URL:https://behindertenverband-leipzig.de
X-WR-CALDESC:Veranstaltungen für Behindertenverband Leipzig e.V.
REFRESH-INTERVAL;VALUE=DURATION:PT1H
X-Robots-Tag:noindex
X-PUBLISHED-TTL:PT1H
BEGIN:VTIMEZONE
TZID:Europe/Berlin
BEGIN:DAYLIGHT
TZOFFSETFROM:+0100
TZOFFSETTO:+0200
TZNAME:CEST
DTSTART:20230326T010000
END:DAYLIGHT
BEGIN:STANDARD
TZOFFSETFROM:+0200
TZOFFSETTO:+0100
TZNAME:CET
DTSTART:20231029T010000
END:STANDARD
BEGIN:DAYLIGHT
TZOFFSETFROM:+0100
TZOFFSETTO:+0200
TZNAME:CEST
DTSTART:20240331T010000
END:DAYLIGHT
BEGIN:STANDARD
TZOFFSETFROM:+0200
TZOFFSETTO:+0100
TZNAME:CET
DTSTART:20241027T010000
END:STANDARD
BEGIN:DAYLIGHT
TZOFFSETFROM:+0100
TZOFFSETTO:+0200
TZNAME:CEST
DTSTART:20250330T010000
END:DAYLIGHT
BEGIN:STANDARD
TZOFFSETFROM:+0200
TZOFFSETTO:+0100
TZNAME:CET
DTSTART:20251026T010000
END:STANDARD
END:VTIMEZONE
BEGIN:VEVENT
DTSTART;TZID=Europe/Berlin:20240113T150000
DTEND;TZID=Europe/Berlin:20240113T190000
DTSTAMP:20260423T104309
CREATED:20231130T134144Z
LAST-MODIFIED:20240103T075241Z
UID:4039-1705158000-1705172400@behindertenverband-leipzig.de
SUMMARY:Fasching
DESCRIPTION:Wir freuen uns\, unsere Mitglieder etwas früher als gewohntzu unserer gemeinsamen Faschingsfeier in der Pauluskirche inGrünau begrüßen zu dürfen.Zu Gast haben wir wieder den Grünauer Garnevals Glub (GGG)\,der uns den Nachmittag mit Sketch und Tanz versüßen wird.Für die musikalische Untermalung sorgt unser DJ Sondershaus.Ab 15.00 Uhr heißen wir Sie herzlich willkommen\, bis 19.00 Uhrfeiern wir gemeinsam.Anmeldeschluss ist der 09.01.2024.Pauluskirche\, Alte Salzstraße 185\,04209 Leipzig
URL:https://behindertenverband-leipzig.de/event/fasching-2/
END:VEVENT
END:VCALENDAR