BEGIN:VCALENDAR
VERSION:2.0
PRODID:-//Behindertenverband Leipzig e.V. - ECPv6.15.20//NONSGML v1.0//EN
CALSCALE:GREGORIAN
METHOD:PUBLISH
X-WR-CALNAME:Behindertenverband Leipzig e.V.
X-ORIGINAL-URL:https://behindertenverband-leipzig.de
X-WR-CALDESC:Veranstaltungen für Behindertenverband Leipzig e.V.
REFRESH-INTERVAL;VALUE=DURATION:PT1H
X-Robots-Tag:noindex
X-PUBLISHED-TTL:PT1H
BEGIN:VTIMEZONE
TZID:Europe/Berlin
BEGIN:DAYLIGHT
TZOFFSETFROM:+0100
TZOFFSETTO:+0200
TZNAME:CEST
DTSTART:20230326T010000
END:DAYLIGHT
BEGIN:STANDARD
TZOFFSETFROM:+0200
TZOFFSETTO:+0100
TZNAME:CET
DTSTART:20231029T010000
END:STANDARD
BEGIN:DAYLIGHT
TZOFFSETFROM:+0100
TZOFFSETTO:+0200
TZNAME:CEST
DTSTART:20240331T010000
END:DAYLIGHT
BEGIN:STANDARD
TZOFFSETFROM:+0200
TZOFFSETTO:+0100
TZNAME:CET
DTSTART:20241027T010000
END:STANDARD
BEGIN:DAYLIGHT
TZOFFSETFROM:+0100
TZOFFSETTO:+0200
TZNAME:CEST
DTSTART:20250330T010000
END:DAYLIGHT
BEGIN:STANDARD
TZOFFSETFROM:+0200
TZOFFSETTO:+0100
TZNAME:CET
DTSTART:20251026T010000
END:STANDARD
END:VTIMEZONE
BEGIN:VEVENT
DTSTART;TZID=Europe/Berlin:20240110T140000
DTEND;TZID=Europe/Berlin:20240110T163000
DTSTAMP:20260423T110852
CREATED:20231130T131637Z
LAST-MODIFIED:20231130T131638Z
UID:4018-1704895200-1704904200@behindertenverband-leipzig.de
SUMMARY:Café Inklusiv(e)
DESCRIPTION:Märchenstunde mit Peggy BurianMärchen sind in jeder Lebensphase einfach gute Unterhaltung\,die uns für die Dauer des Zuhörens ins Reich der Fantasieentführen. Lassen Sie sich von der uralten Kunst des Erzählensverzaubern. Diesen Mittwoch erzählt uns Peggy BurianMärchen aus aller Welt\, frei und mit Herzenslust.
URL:https://behindertenverband-leipzig.de/event/cafe-inklusive-57/
END:VEVENT
END:VCALENDAR