BEGIN:VCALENDAR
VERSION:2.0
PRODID:-//Behindertenverband Leipzig e.V. - ECPv6.15.20//NONSGML v1.0//EN
CALSCALE:GREGORIAN
METHOD:PUBLISH
X-ORIGINAL-URL:https://behindertenverband-leipzig.de
X-WR-CALDESC:Veranstaltungen für Behindertenverband Leipzig e.V.
REFRESH-INTERVAL;VALUE=DURATION:PT1H
X-Robots-Tag:noindex
X-PUBLISHED-TTL:PT1H
BEGIN:VTIMEZONE
TZID:Europe/Berlin
BEGIN:DAYLIGHT
TZOFFSETFROM:+0100
TZOFFSETTO:+0200
TZNAME:CEST
DTSTART:20220327T010000
END:DAYLIGHT
BEGIN:STANDARD
TZOFFSETFROM:+0200
TZOFFSETTO:+0100
TZNAME:CET
DTSTART:20221030T010000
END:STANDARD
BEGIN:DAYLIGHT
TZOFFSETFROM:+0100
TZOFFSETTO:+0200
TZNAME:CEST
DTSTART:20230326T010000
END:DAYLIGHT
BEGIN:STANDARD
TZOFFSETFROM:+0200
TZOFFSETTO:+0100
TZNAME:CET
DTSTART:20231029T010000
END:STANDARD
BEGIN:DAYLIGHT
TZOFFSETFROM:+0100
TZOFFSETTO:+0200
TZNAME:CEST
DTSTART:20240331T010000
END:DAYLIGHT
BEGIN:STANDARD
TZOFFSETFROM:+0200
TZOFFSETTO:+0100
TZNAME:CET
DTSTART:20241027T010000
END:STANDARD
END:VTIMEZONE
BEGIN:VEVENT
DTSTART;TZID=Europe/Berlin:20231218T170000
DTEND;TZID=Europe/Berlin:20231218T190000
DTSTAMP:20260423T120859
CREATED:20231130T133753Z
LAST-MODIFIED:20231130T133754Z
UID:4037-1702918800-1702926000@behindertenverband-leipzig.de
SUMMARY:Friedensgebet
DESCRIPTION:Am Montag\, dem 18.12.2023\, um 17.00 Uhr gestaltenwir in bewährter Tradition gemeinsam mit dem NetzwerkWeiterbildung das Friedensgebet in der Nikolaikirche.Es ist das letzte Friedensgebet in diesem Jahr.Wir werden unser neues Buch\, das Partnerschaftsprojekt mitAddis Abeba\, Selam Neue Blume! Löwe Leon reist nach AddisAbeba\, als Basis für unser Thema wählen.Pfarrerin Angelika Rudnik aus Merseburg und Pfarrer AndreasFünfstück aus Arnsdorf begleiten uns wieder dabei. FrauBarth und der Gehörlosenpfarrer Konrath werden für unseregehörlosen Besucher dolmetschen.Wie jedes Jahr wird uns Nikolaipfarrer Stief begrüßen undKantor Markus Kaufmann an der Orgel begleiten. Wir freuenuns auf Ihr Kommen.
URL:https://behindertenverband-leipzig.de/event/friedensgebet-4/
END:VEVENT
END:VCALENDAR