BEGIN:VCALENDAR
VERSION:2.0
PRODID:-//Behindertenverband Leipzig e.V. - ECPv6.15.20//NONSGML v1.0//EN
CALSCALE:GREGORIAN
METHOD:PUBLISH
X-ORIGINAL-URL:https://behindertenverband-leipzig.de
X-WR-CALDESC:Veranstaltungen für Behindertenverband Leipzig e.V.
REFRESH-INTERVAL;VALUE=DURATION:PT1H
X-Robots-Tag:noindex
X-PUBLISHED-TTL:PT1H
BEGIN:VTIMEZONE
TZID:Europe/Berlin
BEGIN:DAYLIGHT
TZOFFSETFROM:+0100
TZOFFSETTO:+0200
TZNAME:CEST
DTSTART:20220327T010000
END:DAYLIGHT
BEGIN:STANDARD
TZOFFSETFROM:+0200
TZOFFSETTO:+0100
TZNAME:CET
DTSTART:20221030T010000
END:STANDARD
BEGIN:DAYLIGHT
TZOFFSETFROM:+0100
TZOFFSETTO:+0200
TZNAME:CEST
DTSTART:20230326T010000
END:DAYLIGHT
BEGIN:STANDARD
TZOFFSETFROM:+0200
TZOFFSETTO:+0100
TZNAME:CET
DTSTART:20231029T010000
END:STANDARD
BEGIN:DAYLIGHT
TZOFFSETFROM:+0100
TZOFFSETTO:+0200
TZNAME:CEST
DTSTART:20240331T010000
END:DAYLIGHT
BEGIN:STANDARD
TZOFFSETFROM:+0200
TZOFFSETTO:+0100
TZNAME:CET
DTSTART:20241027T010000
END:STANDARD
END:VTIMEZONE
BEGIN:VEVENT
DTSTART;TZID=Europe/Berlin:20231214T120000
DTEND;TZID=Europe/Berlin:20231214T160000
DTSTAMP:20260423T132156
CREATED:20231130T133604Z
LAST-MODIFIED:20231130T133617Z
UID:4034-1702555200-1702569600@behindertenverband-leipzig.de
SUMMARY:E-Rolli Wandergruppe & Kaffeeklatsch
DESCRIPTION:Liebe E-Rolliwanderfreunde und liebe Kaffeeklatschteilnehmer\,am Donnerstag\, dem 14.12.2023 findet von 12.00 – 16.00 Uhrunser Weihnachtsessen im Restaurant „Alt-Engelsdorf“ statt.Meldet euch bitte an\, auch wenn ihr keinen Fahrdienst inAnspruch nehmt. Wir freuen uns auf ein paar gemütlicheStunden in der Vorweihnachtszeit und wünschen euch alleneine besinnliche Adventszeit.Eure Gaby und Hannelore
URL:https://behindertenverband-leipzig.de/event/e-rolli-wandergruppe-kaffeeklatsch/
END:VEVENT
END:VCALENDAR