BEGIN:VCALENDAR
VERSION:2.0
PRODID:-//Behindertenverband Leipzig e.V. - ECPv6.15.20//NONSGML v1.0//EN
CALSCALE:GREGORIAN
METHOD:PUBLISH
X-ORIGINAL-URL:https://behindertenverband-leipzig.de
X-WR-CALDESC:Veranstaltungen für Behindertenverband Leipzig e.V.
REFRESH-INTERVAL;VALUE=DURATION:PT1H
X-Robots-Tag:noindex
X-PUBLISHED-TTL:PT1H
BEGIN:VTIMEZONE
TZID:Europe/Berlin
BEGIN:DAYLIGHT
TZOFFSETFROM:+0100
TZOFFSETTO:+0200
TZNAME:CEST
DTSTART:20220327T010000
END:DAYLIGHT
BEGIN:STANDARD
TZOFFSETFROM:+0200
TZOFFSETTO:+0100
TZNAME:CET
DTSTART:20221030T010000
END:STANDARD
BEGIN:DAYLIGHT
TZOFFSETFROM:+0100
TZOFFSETTO:+0200
TZNAME:CEST
DTSTART:20230326T010000
END:DAYLIGHT
BEGIN:STANDARD
TZOFFSETFROM:+0200
TZOFFSETTO:+0100
TZNAME:CET
DTSTART:20231029T010000
END:STANDARD
BEGIN:DAYLIGHT
TZOFFSETFROM:+0100
TZOFFSETTO:+0200
TZNAME:CEST
DTSTART:20240331T010000
END:DAYLIGHT
BEGIN:STANDARD
TZOFFSETFROM:+0200
TZOFFSETTO:+0100
TZNAME:CET
DTSTART:20241027T010000
END:STANDARD
END:VTIMEZONE
BEGIN:VEVENT
DTSTART;TZID=Europe/Berlin:20231213T140000
DTEND;TZID=Europe/Berlin:20231213T163000
DTSTAMP:20260423T120858
CREATED:20231130T131157Z
LAST-MODIFIED:20231130T131158Z
UID:4011-1702476000-1702485000@behindertenverband-leipzig.de
SUMMARY:Café Inklusiv(e)
DESCRIPTION:Wichtel VorbereitungAm 20.12. wollen wir wichteln. Zur Vorbereitung werden wiran diesem Mittwoch schon mal auslosen\, welche Person wirbeschenken werden. Falls Sie an diesem Tag nicht da seinkönnen aber trotzdem mitmachen wollen\, melden Sie sich imBüro (0341 3065120).
URL:https://behindertenverband-leipzig.de/event/cafe-inklusive-54/
END:VEVENT
END:VCALENDAR