BEGIN:VCALENDAR
VERSION:2.0
PRODID:-//Behindertenverband Leipzig e.V. - ECPv6.15.20//NONSGML v1.0//EN
CALSCALE:GREGORIAN
METHOD:PUBLISH
X-WR-CALNAME:Behindertenverband Leipzig e.V.
X-ORIGINAL-URL:https://behindertenverband-leipzig.de
X-WR-CALDESC:Veranstaltungen für Behindertenverband Leipzig e.V.
REFRESH-INTERVAL;VALUE=DURATION:PT1H
X-Robots-Tag:noindex
X-PUBLISHED-TTL:PT1H
BEGIN:VTIMEZONE
TZID:Europe/Berlin
BEGIN:DAYLIGHT
TZOFFSETFROM:+0100
TZOFFSETTO:+0200
TZNAME:CEST
DTSTART:20220327T010000
END:DAYLIGHT
BEGIN:STANDARD
TZOFFSETFROM:+0200
TZOFFSETTO:+0100
TZNAME:CET
DTSTART:20221030T010000
END:STANDARD
BEGIN:DAYLIGHT
TZOFFSETFROM:+0100
TZOFFSETTO:+0200
TZNAME:CEST
DTSTART:20230326T010000
END:DAYLIGHT
BEGIN:STANDARD
TZOFFSETFROM:+0200
TZOFFSETTO:+0100
TZNAME:CET
DTSTART:20231029T010000
END:STANDARD
BEGIN:DAYLIGHT
TZOFFSETFROM:+0100
TZOFFSETTO:+0200
TZNAME:CEST
DTSTART:20240331T010000
END:DAYLIGHT
BEGIN:STANDARD
TZOFFSETFROM:+0200
TZOFFSETTO:+0100
TZNAME:CET
DTSTART:20241027T010000
END:STANDARD
END:VTIMEZONE
BEGIN:VEVENT
DTSTART;TZID=Europe/Berlin:20231209T150000
DTEND;TZID=Europe/Berlin:20231209T190000
DTSTAMP:20260423T120657
CREATED:20231130T133416Z
LAST-MODIFIED:20231130T133433Z
UID:4031-1702134000-1702148400@behindertenverband-leipzig.de
SUMMARY:Weihnachtsfeier
DESCRIPTION:Wir laden alle Mitglieder herzlich zu unserer diesjährigen Weihnachtsfeier in die Pauluskirche in Grünau ein.Für die musikalische Begleitung sorgt dieses Jahr der GrünauerChor e.V.\, der auch das eine oder andere Liedchen zumMitsingen im Gepäck hat.Außerdem dürfen Sie sich auf ein spannendes Weihnachtsquizfreuen\, bei dem wir uns in Teams zusammentun werden.An alle\, die in der Zeit zwischen Stolle\, Glühwein undAbendbrot ein paar Nüsse knacken möchten\, die Bitte\, eineneigenen Nussknacker mitzubringen.Ab 15.00 Uhr heißen wir Sie herzlich willkommen\, bis 19.00 Uhrfeiern wir gemeinsam.Anmeldeschluss ist der 05.12.2023Pauluskirche\, Alte Salzstraße 185\,04209 Leipzig
URL:https://behindertenverband-leipzig.de/event/weihnachtsfeier-2/
END:VEVENT
END:VCALENDAR