BEGIN:VCALENDAR
VERSION:2.0
PRODID:-//Behindertenverband Leipzig e.V. - ECPv6.15.20//NONSGML v1.0//EN
CALSCALE:GREGORIAN
METHOD:PUBLISH
X-WR-CALNAME:Behindertenverband Leipzig e.V.
X-ORIGINAL-URL:https://behindertenverband-leipzig.de
X-WR-CALDESC:Veranstaltungen für Behindertenverband Leipzig e.V.
REFRESH-INTERVAL;VALUE=DURATION:PT1H
X-Robots-Tag:noindex
X-PUBLISHED-TTL:PT1H
BEGIN:VTIMEZONE
TZID:Europe/Berlin
BEGIN:DAYLIGHT
TZOFFSETFROM:+0100
TZOFFSETTO:+0200
TZNAME:CEST
DTSTART:20220327T010000
END:DAYLIGHT
BEGIN:STANDARD
TZOFFSETFROM:+0200
TZOFFSETTO:+0100
TZNAME:CET
DTSTART:20221030T010000
END:STANDARD
BEGIN:DAYLIGHT
TZOFFSETFROM:+0100
TZOFFSETTO:+0200
TZNAME:CEST
DTSTART:20230326T010000
END:DAYLIGHT
BEGIN:STANDARD
TZOFFSETFROM:+0200
TZOFFSETTO:+0100
TZNAME:CET
DTSTART:20231029T010000
END:STANDARD
BEGIN:DAYLIGHT
TZOFFSETFROM:+0100
TZOFFSETTO:+0200
TZNAME:CEST
DTSTART:20240331T010000
END:DAYLIGHT
BEGIN:STANDARD
TZOFFSETFROM:+0200
TZOFFSETTO:+0100
TZNAME:CET
DTSTART:20241027T010000
END:STANDARD
END:VTIMEZONE
BEGIN:VEVENT
DTSTART;TZID=Europe/Berlin:20231206T140000
DTEND;TZID=Europe/Berlin:20231206T163000
DTSTAMP:20260423T120552
CREATED:20231130T131013Z
LAST-MODIFIED:20231130T131014Z
UID:4009-1701871200-1701880200@behindertenverband-leipzig.de
SUMMARY:Café Inklusiv(e)
DESCRIPTION:Bildervortrag IsraelHerr Eck nimmt uns mit auf eine Reise in den nahen Osten.Nach der Landung in Ovda\, in der Negevwüste fahren wirzunächst an die salzigen Ufer des toten Meeres und macheneinen Abstecher zur hoch darüber thronenden PalastfestungMasada. Danach besuchen wir die Städte Bethlehem undJerusalem\, fahren weiter nach Eliat ans Rote Meer und vondort aus weiter ins Königreich Jordanien um die Stadt Petra zubesichtigen.
URL:https://behindertenverband-leipzig.de/event/cafe-inklusive-53/
END:VEVENT
END:VCALENDAR