BEGIN:VCALENDAR
VERSION:2.0
PRODID:-//Behindertenverband Leipzig e.V. - ECPv6.15.20//NONSGML v1.0//EN
CALSCALE:GREGORIAN
METHOD:PUBLISH
X-WR-CALNAME:Behindertenverband Leipzig e.V.
X-ORIGINAL-URL:https://behindertenverband-leipzig.de
X-WR-CALDESC:Veranstaltungen für Behindertenverband Leipzig e.V.
REFRESH-INTERVAL;VALUE=DURATION:PT1H
X-Robots-Tag:noindex
X-PUBLISHED-TTL:PT1H
BEGIN:VTIMEZONE
TZID:Europe/Berlin
BEGIN:DAYLIGHT
TZOFFSETFROM:+0100
TZOFFSETTO:+0200
TZNAME:CEST
DTSTART:20220327T010000
END:DAYLIGHT
BEGIN:STANDARD
TZOFFSETFROM:+0200
TZOFFSETTO:+0100
TZNAME:CET
DTSTART:20221030T010000
END:STANDARD
BEGIN:DAYLIGHT
TZOFFSETFROM:+0100
TZOFFSETTO:+0200
TZNAME:CEST
DTSTART:20230326T010000
END:DAYLIGHT
BEGIN:STANDARD
TZOFFSETFROM:+0200
TZOFFSETTO:+0100
TZNAME:CET
DTSTART:20231029T010000
END:STANDARD
BEGIN:DAYLIGHT
TZOFFSETFROM:+0100
TZOFFSETTO:+0200
TZNAME:CEST
DTSTART:20240331T010000
END:DAYLIGHT
BEGIN:STANDARD
TZOFFSETFROM:+0200
TZOFFSETTO:+0100
TZNAME:CET
DTSTART:20241027T010000
END:STANDARD
END:VTIMEZONE
BEGIN:VEVENT
DTSTART;TZID=Europe/Berlin:20231204T140000
DTEND;TZID=Europe/Berlin:20231204T160000
DTSTAMP:20260423T120508
CREATED:20231130T132117Z
LAST-MODIFIED:20231130T132119Z
UID:4020-1701698400-1701705600@behindertenverband-leipzig.de
SUMMARY:Gruppe 40Plus
DESCRIPTION:Die Gruppe 40 plus trifft sich am Montag\, dem 4. Dezember in der Volkssolidarität von 14 bis 16 Uhr.Viele Grüße Andreas
URL:https://behindertenverband-leipzig.de/event/gruppe-40plus-37/
END:VEVENT
BEGIN:VEVENT
DTSTART;TZID=Europe/Berlin:20231204T143000
DTEND;TZID=Europe/Berlin:20231204T160000
DTSTAMP:20260423T120508
CREATED:20231130T133041Z
LAST-MODIFIED:20231130T133057Z
UID:4026-1701700200-1701705600@behindertenverband-leipzig.de
SUMMARY:Smartphone & Laptop Sprechstunde
DESCRIPTION:Alle brennenden Fragen und Probleme rund ums ThemaSmartphone\, Laptop\, Computer und Internet beantwortet Ihnendiese Woche Johanna Keitel. Gerne das eigene Gerät mitbringen\,es steht aber auch ein Computer zur Verfügung\, an dem wirgemeinsam lernen und ausprobieren können.
URL:https://behindertenverband-leipzig.de/event/smartphone-laptopsprechstunde-3/
END:VEVENT
END:VCALENDAR