BEGIN:VCALENDAR
VERSION:2.0
PRODID:-//Behindertenverband Leipzig e.V. - ECPv6.15.20//NONSGML v1.0//EN
CALSCALE:GREGORIAN
METHOD:PUBLISH
X-ORIGINAL-URL:https://behindertenverband-leipzig.de
X-WR-CALDESC:Veranstaltungen für Behindertenverband Leipzig e.V.
REFRESH-INTERVAL;VALUE=DURATION:PT1H
X-Robots-Tag:noindex
X-PUBLISHED-TTL:PT1H
BEGIN:VTIMEZONE
TZID:Europe/Berlin
BEGIN:DAYLIGHT
TZOFFSETFROM:+0100
TZOFFSETTO:+0200
TZNAME:CEST
DTSTART:20220327T010000
END:DAYLIGHT
BEGIN:STANDARD
TZOFFSETFROM:+0200
TZOFFSETTO:+0100
TZNAME:CET
DTSTART:20221030T010000
END:STANDARD
BEGIN:DAYLIGHT
TZOFFSETFROM:+0100
TZOFFSETTO:+0200
TZNAME:CEST
DTSTART:20230326T010000
END:DAYLIGHT
BEGIN:STANDARD
TZOFFSETFROM:+0200
TZOFFSETTO:+0100
TZNAME:CET
DTSTART:20231029T010000
END:STANDARD
BEGIN:DAYLIGHT
TZOFFSETFROM:+0100
TZOFFSETTO:+0200
TZNAME:CEST
DTSTART:20240331T010000
END:DAYLIGHT
BEGIN:STANDARD
TZOFFSETFROM:+0200
TZOFFSETTO:+0100
TZNAME:CET
DTSTART:20241027T010000
END:STANDARD
END:VTIMEZONE
BEGIN:VEVENT
DTSTART;TZID=Europe/Berlin:20231118T150000
DTEND;TZID=Europe/Berlin:20231118T190000
DTSTAMP:20260423T135334
CREATED:20231027T073901Z
LAST-MODIFIED:20231027T073903Z
UID:3987-1700319600-1700334000@behindertenverband-leipzig.de
SUMMARY:Mitgliederversammlung des BVL
DESCRIPTION:Liebe Mitglieder\,wir laden Sie ganz herzlich zu unserer diesjährigen Mitgliederversammlung ein. Die Tagesordnung sieht folgende Programmpunkte vor: \n\n\n\n\nBegrüßung\n\n\n\nRechenschaftsbericht des Vorsitzenden undGeschäftsführers mit Dank und dem Gedenkenan unsere Verstorbenen\n\n\n\nFinanzbericht\n\n\n\nBericht der Revisionskommission\n\n\n\nDiskussion\n\n\n\n\nMit einem gemeinsamen Abendessen beschließen wir die Veranstaltung. Bitte für das Abendbrot anmelden.Pauluskirche\, Alte Salzstr. 185\,04209 Leipzig Grünau
URL:https://behindertenverband-leipzig.de/event/mitgliederversammlung-des-bvl/
END:VEVENT
END:VCALENDAR