BEGIN:VCALENDAR
VERSION:2.0
PRODID:-//Behindertenverband Leipzig e.V. - ECPv6.15.20//NONSGML v1.0//EN
CALSCALE:GREGORIAN
METHOD:PUBLISH
X-WR-CALNAME:Behindertenverband Leipzig e.V.
X-ORIGINAL-URL:https://behindertenverband-leipzig.de
X-WR-CALDESC:Veranstaltungen für Behindertenverband Leipzig e.V.
REFRESH-INTERVAL;VALUE=DURATION:PT1H
X-Robots-Tag:noindex
X-PUBLISHED-TTL:PT1H
BEGIN:VTIMEZONE
TZID:Europe/Berlin
BEGIN:DAYLIGHT
TZOFFSETFROM:+0100
TZOFFSETTO:+0200
TZNAME:CEST
DTSTART:20220327T010000
END:DAYLIGHT
BEGIN:STANDARD
TZOFFSETFROM:+0200
TZOFFSETTO:+0100
TZNAME:CET
DTSTART:20221030T010000
END:STANDARD
BEGIN:DAYLIGHT
TZOFFSETFROM:+0100
TZOFFSETTO:+0200
TZNAME:CEST
DTSTART:20230326T010000
END:DAYLIGHT
BEGIN:STANDARD
TZOFFSETFROM:+0200
TZOFFSETTO:+0100
TZNAME:CET
DTSTART:20231029T010000
END:STANDARD
BEGIN:DAYLIGHT
TZOFFSETFROM:+0100
TZOFFSETTO:+0200
TZNAME:CEST
DTSTART:20240331T010000
END:DAYLIGHT
BEGIN:STANDARD
TZOFFSETFROM:+0200
TZOFFSETTO:+0100
TZNAME:CET
DTSTART:20241027T010000
END:STANDARD
END:VTIMEZONE
BEGIN:VEVENT
DTSTART;TZID=Europe/Berlin:20230920T100000
DTEND;TZID=Europe/Berlin:20230920T140000
DTSTAMP:20260423T170204
CREATED:20230912T065947Z
LAST-MODIFIED:20230912T065949Z
UID:3924-1695204000-1695218400@behindertenverband-leipzig.de
SUMMARY:LVB Mobilitätstraining
DESCRIPTION:Die Leipziger Verkehrsbetriebe bieten am 20. September einMobilitätstraining an. Dieses findet von 10.00 bis 14.00 Uhr inder großen Wagenhalle am Straßenbahnhof Angerbrückestatt. Es richtet sich an alle Personen\, die sicheres Ein- undAussteigen an barrierefreien und nicht-barrierefreien Haltestellenausprobieren und sich darüber informieren wollen. Vorgestelltwerden dort außerdem die relativ neuen\, digitalen AngeboteFlexa und Leipzig Move.
URL:https://behindertenverband-leipzig.de/event/lvb-mobilitaetstraining/
END:VEVENT
BEGIN:VEVENT
DTSTART;TZID=Europe/Berlin:20230920T140000
DTEND;TZID=Europe/Berlin:20230920T163000
DTSTAMP:20260423T170204
CREATED:20230912T070048Z
LAST-MODIFIED:20230912T070050Z
UID:3926-1695218400-1695227400@behindertenverband-leipzig.de
SUMMARY:Café Inklusiv(e): Gedächtnistraining
DESCRIPTION:Diesen Mittwoch gestaltet für uns Anett Reichel\, zertifizierte Gedächtnistrainerin von „mobile Lichtmomente“. Den ersten Teil der Stunde wird es einen kurzen Input zum Thema Demenz/ Alzheimer geben\, darauf folgt ein lockeres Gedächtnistraining.Haus der Demokratie\, Café
URL:https://behindertenverband-leipzig.de/event/cafe-inklusive-gedaechtnistraining/
END:VEVENT
END:VCALENDAR