BEGIN:VCALENDAR
VERSION:2.0
PRODID:-//Behindertenverband Leipzig e.V. - ECPv6.15.20//NONSGML v1.0//EN
CALSCALE:GREGORIAN
METHOD:PUBLISH
X-ORIGINAL-URL:https://behindertenverband-leipzig.de
X-WR-CALDESC:Veranstaltungen für Behindertenverband Leipzig e.V.
REFRESH-INTERVAL;VALUE=DURATION:PT1H
X-Robots-Tag:noindex
X-PUBLISHED-TTL:PT1H
BEGIN:VTIMEZONE
TZID:Europe/Berlin
BEGIN:DAYLIGHT
TZOFFSETFROM:+0100
TZOFFSETTO:+0200
TZNAME:CEST
DTSTART:20220327T010000
END:DAYLIGHT
BEGIN:STANDARD
TZOFFSETFROM:+0200
TZOFFSETTO:+0100
TZNAME:CET
DTSTART:20221030T010000
END:STANDARD
BEGIN:DAYLIGHT
TZOFFSETFROM:+0100
TZOFFSETTO:+0200
TZNAME:CEST
DTSTART:20230326T010000
END:DAYLIGHT
BEGIN:STANDARD
TZOFFSETFROM:+0200
TZOFFSETTO:+0100
TZNAME:CET
DTSTART:20231029T010000
END:STANDARD
BEGIN:DAYLIGHT
TZOFFSETFROM:+0100
TZOFFSETTO:+0200
TZNAME:CEST
DTSTART:20240331T010000
END:DAYLIGHT
BEGIN:STANDARD
TZOFFSETFROM:+0200
TZOFFSETTO:+0100
TZNAME:CET
DTSTART:20241027T010000
END:STANDARD
END:VTIMEZONE
BEGIN:VEVENT
DTSTART;TZID=Europe/Berlin:20230826T100000
DTEND;TZID=Europe/Berlin:20230826T160000
DTSTAMP:20260423T182906
CREATED:20230802T071359Z
LAST-MODIFIED:20230802T071402Z
UID:3896-1693044000-1693065600@behindertenverband-leipzig.de
SUMMARY:4. Leipziger Inklusives Sportfest
DESCRIPTION:Das Bildungswerk Leipzig für Hör- und Sprachgeschädigte richtet am Samstag dem 26. August ab 10.00 Uhr in Leipzig Knautkleeberg\, Knautnaundorfer Straße 4 ein inklusives Sportfest aus. Alle sind herzlich eingeladen zum Mitmachen und Ausprobieren. Zum Beispiel Rollstuhlrugby\, Sitzvolleyball\, Tennis und vieles mehr. Einige unserer kegelnden Mitglieder werden mit ihrer Schiene auch vor Ort sein. \n\n\n\nLeipzig Knautkleeberg\, Knautnaundorfer Straße 4
URL:https://behindertenverband-leipzig.de/event/4-leipziger-inklusives-sportfest/
END:VEVENT
END:VCALENDAR