BEGIN:VCALENDAR
VERSION:2.0
PRODID:-//Behindertenverband Leipzig e.V. - ECPv6.15.20//NONSGML v1.0//EN
CALSCALE:GREGORIAN
METHOD:PUBLISH
X-WR-CALNAME:Behindertenverband Leipzig e.V.
X-ORIGINAL-URL:https://behindertenverband-leipzig.de
X-WR-CALDESC:Veranstaltungen für Behindertenverband Leipzig e.V.
REFRESH-INTERVAL;VALUE=DURATION:PT1H
X-Robots-Tag:noindex
X-PUBLISHED-TTL:PT1H
BEGIN:VTIMEZONE
TZID:Europe/Berlin
BEGIN:DAYLIGHT
TZOFFSETFROM:+0100
TZOFFSETTO:+0200
TZNAME:CEST
DTSTART:20220327T010000
END:DAYLIGHT
BEGIN:STANDARD
TZOFFSETFROM:+0200
TZOFFSETTO:+0100
TZNAME:CET
DTSTART:20221030T010000
END:STANDARD
BEGIN:DAYLIGHT
TZOFFSETFROM:+0100
TZOFFSETTO:+0200
TZNAME:CEST
DTSTART:20230326T010000
END:DAYLIGHT
BEGIN:STANDARD
TZOFFSETFROM:+0200
TZOFFSETTO:+0100
TZNAME:CET
DTSTART:20231029T010000
END:STANDARD
BEGIN:DAYLIGHT
TZOFFSETFROM:+0100
TZOFFSETTO:+0200
TZNAME:CEST
DTSTART:20240331T010000
END:DAYLIGHT
BEGIN:STANDARD
TZOFFSETFROM:+0200
TZOFFSETTO:+0100
TZNAME:CET
DTSTART:20241027T010000
END:STANDARD
END:VTIMEZONE
BEGIN:VEVENT
DTSTART;TZID=Europe/Berlin:20230621T140000
DTEND;TZID=Europe/Berlin:20230621T160000
DTSTAMP:20260423T212302
CREATED:20230531T115043Z
LAST-MODIFIED:20230531T115044Z
UID:3827-1687356000-1687363200@behindertenverband-leipzig.de
SUMMARY:Vorstellung Johanniter Hausnotruf
DESCRIPTION:Informationsnachmittag zum sicheren & unabhängigen Wohnen mit dem Johanniter Hausnotruf bis ins hohe Alter und die Beantwortung folgender Fragen:Wie funktioniert der Hausnotruf?Was passiert im Falle eines Notfalles?Für wen ist der Hausnotruf geeignet?Habe ich Anspruch auf eine Kostenübernahme?Kann ich den Hausnotruf auch erst einmal ausprobieren?
URL:https://behindertenverband-leipzig.de/event/vorstellung-johanniter-hausnotruf/
END:VEVENT
END:VCALENDAR