BEGIN:VCALENDAR
VERSION:2.0
PRODID:-//Behindertenverband Leipzig e.V. - ECPv6.15.20//NONSGML v1.0//EN
CALSCALE:GREGORIAN
METHOD:PUBLISH
X-ORIGINAL-URL:https://behindertenverband-leipzig.de
X-WR-CALDESC:Veranstaltungen für Behindertenverband Leipzig e.V.
REFRESH-INTERVAL;VALUE=DURATION:PT1H
X-Robots-Tag:noindex
X-PUBLISHED-TTL:PT1H
BEGIN:VTIMEZONE
TZID:Europe/Berlin
BEGIN:DAYLIGHT
TZOFFSETFROM:+0100
TZOFFSETTO:+0200
TZNAME:CEST
DTSTART:20220327T010000
END:DAYLIGHT
BEGIN:STANDARD
TZOFFSETFROM:+0200
TZOFFSETTO:+0100
TZNAME:CET
DTSTART:20221030T010000
END:STANDARD
BEGIN:DAYLIGHT
TZOFFSETFROM:+0100
TZOFFSETTO:+0200
TZNAME:CEST
DTSTART:20230326T010000
END:DAYLIGHT
BEGIN:STANDARD
TZOFFSETFROM:+0200
TZOFFSETTO:+0100
TZNAME:CET
DTSTART:20231029T010000
END:STANDARD
BEGIN:DAYLIGHT
TZOFFSETFROM:+0100
TZOFFSETTO:+0200
TZNAME:CEST
DTSTART:20240331T010000
END:DAYLIGHT
BEGIN:STANDARD
TZOFFSETFROM:+0200
TZOFFSETTO:+0100
TZNAME:CET
DTSTART:20241027T010000
END:STANDARD
END:VTIMEZONE
BEGIN:VEVENT
DTSTART;TZID=Europe/Berlin:20230620T140000
DTEND;TZID=Europe/Berlin:20230620T173000
DTSTAMP:20260423T212520
CREATED:20230531T115536Z
LAST-MODIFIED:20230531T115537Z
UID:3833-1687269600-1687282200@behindertenverband-leipzig.de
SUMMARY:Expedition in den Wildpark
DESCRIPTION:Am Dienstag\, dem 20. Juni sind alle WanderfreundInnen eingeladen\, noch einmal den Wildpark zu erkunden. Diesmal treffen wir uns 14 Uhr am Connewitzer Kreuz an der Grünfläche neben der Südbrause und wandern in den Wildpark. Dort können wir den Erlebnispfad durch das Wildgehege nutzen und finden sicherlich auch eine Imbissmöglichkeit. Gegen 17.30 Uhr beenden wir unseren Ausflug am Haupteingang Koburger Straße. Bitte meldet euch im Sekretariat des BVL an (0341 3065120) und denkt an die Bestellung des Fahrdienstes.
URL:https://behindertenverband-leipzig.de/event/expedition-in-den-wildpark/
END:VEVENT
END:VCALENDAR