BEGIN:VCALENDAR
VERSION:2.0
PRODID:-//Behindertenverband Leipzig e.V. - ECPv6.15.20//NONSGML v1.0//EN
CALSCALE:GREGORIAN
METHOD:PUBLISH
X-WR-CALNAME:Behindertenverband Leipzig e.V.
X-ORIGINAL-URL:https://behindertenverband-leipzig.de
X-WR-CALDESC:Veranstaltungen für Behindertenverband Leipzig e.V.
REFRESH-INTERVAL;VALUE=DURATION:PT1H
X-Robots-Tag:noindex
X-PUBLISHED-TTL:PT1H
BEGIN:VTIMEZONE
TZID:Europe/Berlin
BEGIN:DAYLIGHT
TZOFFSETFROM:+0100
TZOFFSETTO:+0200
TZNAME:CEST
DTSTART:20220327T010000
END:DAYLIGHT
BEGIN:STANDARD
TZOFFSETFROM:+0200
TZOFFSETTO:+0100
TZNAME:CET
DTSTART:20221030T010000
END:STANDARD
BEGIN:DAYLIGHT
TZOFFSETFROM:+0100
TZOFFSETTO:+0200
TZNAME:CEST
DTSTART:20230326T010000
END:DAYLIGHT
BEGIN:STANDARD
TZOFFSETFROM:+0200
TZOFFSETTO:+0100
TZNAME:CET
DTSTART:20231029T010000
END:STANDARD
BEGIN:DAYLIGHT
TZOFFSETFROM:+0100
TZOFFSETTO:+0200
TZNAME:CEST
DTSTART:20240331T010000
END:DAYLIGHT
BEGIN:STANDARD
TZOFFSETFROM:+0200
TZOFFSETTO:+0100
TZNAME:CET
DTSTART:20241027T010000
END:STANDARD
END:VTIMEZONE
BEGIN:VEVENT
DTSTART;TZID=Europe/Berlin:20230613T140000
DTEND;TZID=Europe/Berlin:20230613T163000
DTSTAMP:20260423T212435
CREATED:20230531T114716Z
LAST-MODIFIED:20230531T114718Z
UID:3823-1686664800-1686673800@behindertenverband-leipzig.de
SUMMARY:Kreatives Gestalten - Papierschöpfen
DESCRIPTION:Liebe Bastelfreundinnen und -freunde\, \n\n\n\nBei schönem Wetter schöpfen wir diesen Monat Büttenpapier. Das ist eine etwas nasse Angelegenheit\, deshalb machen wir das draußen im Hof. Sollte es jedoch regnen werden wir als Alternativplan Notizbücher selber binden.Wir freuen uns auf euch\,eure Martina und Tom
URL:https://behindertenverband-leipzig.de/event/kreatives-gestalten-papierschoepfen/
LOCATION:Haus der Demokratie\, Café\, Bernhard-Göring-Str. 152\, Leipzig\, 04277\, Deutschland
END:VEVENT
BEGIN:VEVENT
DTSTART;TZID=Europe/Berlin:20230613T193000
DTEND;TZID=Europe/Berlin:20230613T220000
DTSTAMP:20260423T212435
CREATED:20230531T112442Z
LAST-MODIFIED:20230531T112444Z
UID:3815-1686684600-1686693600@behindertenverband-leipzig.de
SUMMARY:Viva La Violine
DESCRIPTION:Violinorchester unter der Leitung Tenille Taylor \n\n\n\nDas aus New Mexico\, USA stamende Jugend-Streichorchester spielt Werke von Johann Sebastian Bach\, Antonín Dvorák und Johannes Brahms. \n\n\n\nFreikarten können bei Frau Keitel\, in Zimmer 06\, abgeholt werden.
URL:https://behindertenverband-leipzig.de/event/viva-la-violine/
END:VEVENT
END:VCALENDAR