BEGIN:VCALENDAR
VERSION:2.0
PRODID:-//Behindertenverband Leipzig e.V. - ECPv6.15.20//NONSGML v1.0//EN
CALSCALE:GREGORIAN
METHOD:PUBLISH
X-WR-CALNAME:Behindertenverband Leipzig e.V.
X-ORIGINAL-URL:https://behindertenverband-leipzig.de
X-WR-CALDESC:Veranstaltungen für Behindertenverband Leipzig e.V.
REFRESH-INTERVAL;VALUE=DURATION:PT1H
X-Robots-Tag:noindex
X-PUBLISHED-TTL:PT1H
BEGIN:VTIMEZONE
TZID:Europe/Berlin
BEGIN:DAYLIGHT
TZOFFSETFROM:+0100
TZOFFSETTO:+0200
TZNAME:CEST
DTSTART:20220327T010000
END:DAYLIGHT
BEGIN:STANDARD
TZOFFSETFROM:+0200
TZOFFSETTO:+0100
TZNAME:CET
DTSTART:20221030T010000
END:STANDARD
BEGIN:DAYLIGHT
TZOFFSETFROM:+0100
TZOFFSETTO:+0200
TZNAME:CEST
DTSTART:20230326T010000
END:DAYLIGHT
BEGIN:STANDARD
TZOFFSETFROM:+0200
TZOFFSETTO:+0100
TZNAME:CET
DTSTART:20231029T010000
END:STANDARD
BEGIN:DAYLIGHT
TZOFFSETFROM:+0100
TZOFFSETTO:+0200
TZNAME:CEST
DTSTART:20240331T010000
END:DAYLIGHT
BEGIN:STANDARD
TZOFFSETFROM:+0200
TZOFFSETTO:+0100
TZNAME:CET
DTSTART:20241027T010000
END:STANDARD
END:VTIMEZONE
BEGIN:VEVENT
DTSTART;TZID=Europe/Berlin:20230524T140000
DTEND;TZID=Europe/Berlin:20230524T160000
DTSTAMP:20260423T225055
CREATED:20230504T074233Z
LAST-MODIFIED:20230504T074252Z
UID:3806-1684936800-1684944000@behindertenverband-leipzig.de
SUMMARY:Café Inklusiv(e)\, Audiodeskription
DESCRIPTION:Gesprächsrunde zum Thema Audiodeskription \n\n\n\nMit Tomke Koop und Florian Eib begrüßen wir zwei Experten für Audiodeskription. Mit ihrer Firma HörMal Audiodeskription machen sich die beiden seit einigen Jahren für Barrierefreiheit bei öffentlichen Großveranstaltungen stark. Sie beantworten uns gerne alle Fragen zum Thema Audiodeskription\, deren technische Umsetzung und dazugehörende Services wie barrierefreies Ticketing sowie Begleitservices.Haus der Demokratie\, Café
URL:https://behindertenverband-leipzig.de/event/cafe-inklusive-audiodeskription/
END:VEVENT
END:VCALENDAR