BEGIN:VCALENDAR
VERSION:2.0
PRODID:-//Behindertenverband Leipzig e.V. - ECPv6.15.20//NONSGML v1.0//EN
CALSCALE:GREGORIAN
METHOD:PUBLISH
X-WR-CALNAME:Behindertenverband Leipzig e.V.
X-ORIGINAL-URL:https://behindertenverband-leipzig.de
X-WR-CALDESC:Veranstaltungen für Behindertenverband Leipzig e.V.
REFRESH-INTERVAL;VALUE=DURATION:PT1H
X-Robots-Tag:noindex
X-PUBLISHED-TTL:PT1H
BEGIN:VTIMEZONE
TZID:Europe/Berlin
BEGIN:DAYLIGHT
TZOFFSETFROM:+0100
TZOFFSETTO:+0200
TZNAME:CEST
DTSTART:20220327T010000
END:DAYLIGHT
BEGIN:STANDARD
TZOFFSETFROM:+0200
TZOFFSETTO:+0100
TZNAME:CET
DTSTART:20221030T010000
END:STANDARD
BEGIN:DAYLIGHT
TZOFFSETFROM:+0100
TZOFFSETTO:+0200
TZNAME:CEST
DTSTART:20230326T010000
END:DAYLIGHT
BEGIN:STANDARD
TZOFFSETFROM:+0200
TZOFFSETTO:+0100
TZNAME:CET
DTSTART:20231029T010000
END:STANDARD
BEGIN:DAYLIGHT
TZOFFSETFROM:+0100
TZOFFSETTO:+0200
TZNAME:CEST
DTSTART:20240331T010000
END:DAYLIGHT
BEGIN:STANDARD
TZOFFSETFROM:+0200
TZOFFSETTO:+0100
TZNAME:CET
DTSTART:20241027T010000
END:STANDARD
END:VTIMEZONE
BEGIN:VEVENT
DTSTART;TZID=Europe/Berlin:20230516T130000
DTEND;TZID=Europe/Berlin:20230516T163000
DTSTAMP:20260423T225144
CREATED:20230504T073833Z
LAST-MODIFIED:20230504T073834Z
UID:3800-1684242000-1684254600@behindertenverband-leipzig.de
SUMMARY:E-Rolli Wandergruppe
DESCRIPTION:Liebe Wanderfreunde\,im Mai wandern wir ins Grüne und schauen uns mal wieder den Wildpark an. Leider war unser geplanter Herbstausflug ja wortwörtlich ins Wasser gefallen. Wir treffen uns also am Dienstag\, dem 16. Mai 2023 um 13.00 Uhr am Connewitzer Kreuz\, genau an der Grünfläche neben der Südbrause und wandern dann zum Wildpark. Dort können wir den Erlebnispfad durch das Wildgehege nutzen und finden sicherlich auch eine Imbissmöglichkeit. Gegen 16.30 Uhr beenden wir unser Treffen am Haupteingang Koburger Straße. Bitte meldet euch an und denkt an die Bestellung des Fahrdienstes.Bleibt gesund! \n\n\n\nEure Gaby und Roland
URL:https://behindertenverband-leipzig.de/event/e-rolli-wandergruppe-21/
END:VEVENT
END:VCALENDAR