BEGIN:VCALENDAR
VERSION:2.0
PRODID:-//Behindertenverband Leipzig e.V. - ECPv6.15.20//NONSGML v1.0//EN
CALSCALE:GREGORIAN
METHOD:PUBLISH
X-ORIGINAL-URL:https://behindertenverband-leipzig.de
X-WR-CALDESC:Veranstaltungen für Behindertenverband Leipzig e.V.
REFRESH-INTERVAL;VALUE=DURATION:PT1H
X-Robots-Tag:noindex
X-PUBLISHED-TTL:PT1H
BEGIN:VTIMEZONE
TZID:Europe/Berlin
BEGIN:DAYLIGHT
TZOFFSETFROM:+0100
TZOFFSETTO:+0200
TZNAME:CEST
DTSTART:20220327T010000
END:DAYLIGHT
BEGIN:STANDARD
TZOFFSETFROM:+0200
TZOFFSETTO:+0100
TZNAME:CET
DTSTART:20221030T010000
END:STANDARD
BEGIN:DAYLIGHT
TZOFFSETFROM:+0100
TZOFFSETTO:+0200
TZNAME:CEST
DTSTART:20230326T010000
END:DAYLIGHT
BEGIN:STANDARD
TZOFFSETFROM:+0200
TZOFFSETTO:+0100
TZNAME:CET
DTSTART:20231029T010000
END:STANDARD
BEGIN:DAYLIGHT
TZOFFSETFROM:+0100
TZOFFSETTO:+0200
TZNAME:CEST
DTSTART:20240331T010000
END:DAYLIGHT
BEGIN:STANDARD
TZOFFSETFROM:+0200
TZOFFSETTO:+0100
TZNAME:CET
DTSTART:20241027T010000
END:STANDARD
END:VTIMEZONE
BEGIN:VEVENT
DTSTART;TZID=Europe/Berlin:20230422T150000
DTEND;TZID=Europe/Berlin:20230422T190000
DTSTAMP:20260424T002541
CREATED:20230403T090820Z
LAST-MODIFIED:20230419T130637Z
UID:3760-1682175600-1682190000@behindertenverband-leipzig.de
SUMMARY:Frühlingsfest - Achtung neuer Veranstaltungsort!!!
DESCRIPTION:Den Frühlingsanfang\, der dieses Jahr nun wieder allzu lange hat auf sich warten lassen\, möchten wir gemeinsam mit Ihnen feierlich begrüßen. Wir laden Sie herzlich zu unserem Frühlingsfest am Samstag\, dem 22. April\, in der St. Martins Kirche in die Ev.-Luth. Pauluskirchgemeinde  in Grünau ein.  \n\n\n\nDieses Jahr dürfen wir uns auf Unterhaltung durch das Seniorenkabarett „die Spottvögel“ freuen: einem Ensemble der besonderen Art. Für die musikalische Begleitung sorgt DJ Sondershaus. Ab 15.00 Uhr heißen wir alle herzlich willkommen\, bis 19.00 Uhr feiern wir gemeinsam.  \n\n\n\nDie Teilnahmegebühr liegt bei 10\,- EUR.Anmeldeschluss ist der 18.04.23\, Tel.: 0341 3065 120(Wenn es für Sie gerade nicht möglich ist die Teilnahmegebühr zu entrichten\, dann melden Sie sich bitte und wir finden gemeinsam eine Lösung!)Tel.: 0341 3065 121 – Frau Keitel oderTel.: 0341 3065 122 – Frau Berger \n\n\n\nSamstag\, 22.04.23\, 15.00 – 19.00 UhrEv.-Luth. Pauluskirchgemeinde\, Alte Salzstr. 185\,04209 Leipzig
URL:https://behindertenverband-leipzig.de/event/fruehlingsfest/
END:VEVENT
END:VCALENDAR