BEGIN:VCALENDAR
VERSION:2.0
PRODID:-//Behindertenverband Leipzig e.V. - ECPv6.15.20//NONSGML v1.0//EN
CALSCALE:GREGORIAN
METHOD:PUBLISH
X-ORIGINAL-URL:https://behindertenverband-leipzig.de
X-WR-CALDESC:Veranstaltungen für Behindertenverband Leipzig e.V.
REFRESH-INTERVAL;VALUE=DURATION:PT1H
X-Robots-Tag:noindex
X-PUBLISHED-TTL:PT1H
BEGIN:VTIMEZONE
TZID:Europe/Berlin
BEGIN:DAYLIGHT
TZOFFSETFROM:+0100
TZOFFSETTO:+0200
TZNAME:CEST
DTSTART:20220327T010000
END:DAYLIGHT
BEGIN:STANDARD
TZOFFSETFROM:+0200
TZOFFSETTO:+0100
TZNAME:CET
DTSTART:20221030T010000
END:STANDARD
BEGIN:DAYLIGHT
TZOFFSETFROM:+0100
TZOFFSETTO:+0200
TZNAME:CEST
DTSTART:20230326T010000
END:DAYLIGHT
BEGIN:STANDARD
TZOFFSETFROM:+0200
TZOFFSETTO:+0100
TZNAME:CET
DTSTART:20231029T010000
END:STANDARD
BEGIN:DAYLIGHT
TZOFFSETFROM:+0100
TZOFFSETTO:+0200
TZNAME:CEST
DTSTART:20240331T010000
END:DAYLIGHT
BEGIN:STANDARD
TZOFFSETFROM:+0200
TZOFFSETTO:+0100
TZNAME:CET
DTSTART:20241027T010000
END:STANDARD
END:VTIMEZONE
BEGIN:VEVENT
DTSTART;TZID=Europe/Berlin:20230419T140000
DTEND;TZID=Europe/Berlin:20230419T160000
DTSTAMP:20260424T002525
CREATED:20230403T090533Z
LAST-MODIFIED:20230403T090534Z
UID:3758-1681912800-1681920000@behindertenverband-leipzig.de
SUMMARY:Café Inklusiv(e)\, Botanischer Garten
DESCRIPTION:Ausflug in den Botanischen GartenPassend zum Frühlingsbeginn möchten wir diesen Mittwoch nutzen\, um gemeinsam einen Ausflug in den Botanischen Garten zu machen. Dort wird in Kürze alles zu blühen und zusprießen beginnen – das wollen wir uns nicht entgehen lassen! Wir treffen uns um 14.30 Uhr vor dem Haupteingang des Botanischen Gartens und erkunden dann dort gemeinsam den Kuriositätenpfad.Mittwoch\, 19. 04. 2023\, 14.00 – 16.00 UhrBotanischer Garten\, Linnéstraße 1\, 04103 Leipzig
URL:https://behindertenverband-leipzig.de/event/cafe-inklusive-botanischer-garten/
END:VEVENT
END:VCALENDAR