BEGIN:VCALENDAR
VERSION:2.0
PRODID:-//Behindertenverband Leipzig e.V. - ECPv6.15.20//NONSGML v1.0//EN
CALSCALE:GREGORIAN
METHOD:PUBLISH
X-ORIGINAL-URL:https://behindertenverband-leipzig.de
X-WR-CALDESC:Veranstaltungen für Behindertenverband Leipzig e.V.
REFRESH-INTERVAL;VALUE=DURATION:PT1H
X-Robots-Tag:noindex
X-PUBLISHED-TTL:PT1H
BEGIN:VTIMEZONE
TZID:Europe/Berlin
BEGIN:DAYLIGHT
TZOFFSETFROM:+0100
TZOFFSETTO:+0200
TZNAME:CEST
DTSTART:20220327T010000
END:DAYLIGHT
BEGIN:STANDARD
TZOFFSETFROM:+0200
TZOFFSETTO:+0100
TZNAME:CET
DTSTART:20221030T010000
END:STANDARD
BEGIN:DAYLIGHT
TZOFFSETFROM:+0100
TZOFFSETTO:+0200
TZNAME:CEST
DTSTART:20230326T010000
END:DAYLIGHT
BEGIN:STANDARD
TZOFFSETFROM:+0200
TZOFFSETTO:+0100
TZNAME:CET
DTSTART:20231029T010000
END:STANDARD
BEGIN:DAYLIGHT
TZOFFSETFROM:+0100
TZOFFSETTO:+0200
TZNAME:CEST
DTSTART:20240331T010000
END:DAYLIGHT
BEGIN:STANDARD
TZOFFSETFROM:+0200
TZOFFSETTO:+0100
TZNAME:CET
DTSTART:20241027T010000
END:STANDARD
END:VTIMEZONE
BEGIN:VEVENT
DTSTART;TZID=Europe/Berlin:20230321T130000
DTEND;TZID=Europe/Berlin:20230321T160000
DTSTAMP:20260424T015740
CREATED:20230227T140234Z
LAST-MODIFIED:20230317T075019Z
UID:3727-1679403600-1679414400@behindertenverband-leipzig.de
SUMMARY:E-Rolli-Wandergruppe
DESCRIPTION:Liebe Wanderfreunde\,auch im März werden wir uns treffen. Aber unser Nachmittagverläuft etwas anders als gewohnt. Um für unsere Touren inder freien Natur richtig gewappnet zu sein\, laden wir zu einemNachmittag auf unserer Rolli-Teststrecke ein. Diesmal werdenkeine Auszubildenden\, Studenten oder Touristiker die einzelnenHindernisse überwinden\, sondern ihr als Profis in eigenerSache. Wir treffen uns wie immer am 3. Dienstag\, also am 21. 03. 2023 ab 13.00 Uhr im BVL. Dort üben wir im Hof undmit einem kleinen Imbiss mit Kaffee und Kuchen lassen wirunseren Spezial-Wandertag ausklingen.
URL:https://behindertenverband-leipzig.de/event/e-rolli-wandergruppe-19/
END:VEVENT
END:VCALENDAR