BEGIN:VCALENDAR
VERSION:2.0
PRODID:-//Behindertenverband Leipzig e.V. - ECPv6.15.20//NONSGML v1.0//EN
CALSCALE:GREGORIAN
METHOD:PUBLISH
X-WR-CALNAME:Behindertenverband Leipzig e.V.
X-ORIGINAL-URL:https://behindertenverband-leipzig.de
X-WR-CALDESC:Veranstaltungen für Behindertenverband Leipzig e.V.
REFRESH-INTERVAL;VALUE=DURATION:PT1H
X-Robots-Tag:noindex
X-PUBLISHED-TTL:PT1H
BEGIN:VTIMEZONE
TZID:Europe/Berlin
BEGIN:DAYLIGHT
TZOFFSETFROM:+0100
TZOFFSETTO:+0200
TZNAME:CEST
DTSTART:20220327T010000
END:DAYLIGHT
BEGIN:STANDARD
TZOFFSETFROM:+0200
TZOFFSETTO:+0100
TZNAME:CET
DTSTART:20221030T010000
END:STANDARD
BEGIN:DAYLIGHT
TZOFFSETFROM:+0100
TZOFFSETTO:+0200
TZNAME:CEST
DTSTART:20230326T010000
END:DAYLIGHT
BEGIN:STANDARD
TZOFFSETFROM:+0200
TZOFFSETTO:+0100
TZNAME:CET
DTSTART:20231029T010000
END:STANDARD
BEGIN:DAYLIGHT
TZOFFSETFROM:+0100
TZOFFSETTO:+0200
TZNAME:CEST
DTSTART:20240331T010000
END:DAYLIGHT
BEGIN:STANDARD
TZOFFSETFROM:+0200
TZOFFSETTO:+0100
TZNAME:CET
DTSTART:20241027T010000
END:STANDARD
END:VTIMEZONE
BEGIN:VEVENT
DTSTART;TZID=Europe/Berlin:20230225T133000
DTEND;TZID=Europe/Berlin:20230225T160000
DTSTAMP:20260424T032732
CREATED:20230125T103426Z
LAST-MODIFIED:20230125T103713Z
UID:3671-1677331800-1677340800@behindertenverband-leipzig.de
SUMMARY:Kulturgruppe „Kultflexx“
DESCRIPTION:Liebe Mitglieder\, liebe Freunde!Leider ist das Thema „Krieg“ und „Terrorismus“ auch zu Beginn dieses neuen Jahres aktueller denn je. Die Geschehnisse des 11. September 2001 in New York werden uns wohl immer im Gedächtnis bleiben. Eine sehr interessante Ausstellung zu diesem Ereignis ist im Panometer Leipzig zu sehen. „NEW YORK 9/11 – Krieg in Zeiten von Frieden“ ist Yadegar Asisis viertes Anti-Kriegsprojekt und führt seine Betrachtung der Welt unter besonderem Fokus auf die Kriege der Neuzeit fort. Ich würde mich freuen\, wenn ich Euer Interesse fürdiese Ausstellung geweckt habe und lade Euch herzlich zu einem Besuch dieser Ausstellung ein!Bei Interesse bitte bis Montag\, dem 20.02. im Büro melden. \n\n\n\nEure Karin Panometer Leipzig
URL:https://behindertenverband-leipzig.de/event/kulturgruppe-kultflexx-11/
END:VEVENT
END:VCALENDAR