BEGIN:VCALENDAR
VERSION:2.0
PRODID:-//Behindertenverband Leipzig e.V. - ECPv6.15.20//NONSGML v1.0//EN
CALSCALE:GREGORIAN
METHOD:PUBLISH
X-WR-CALNAME:Behindertenverband Leipzig e.V.
X-ORIGINAL-URL:https://behindertenverband-leipzig.de
X-WR-CALDESC:Veranstaltungen für Behindertenverband Leipzig e.V.
REFRESH-INTERVAL;VALUE=DURATION:PT1H
X-Robots-Tag:noindex
X-PUBLISHED-TTL:PT1H
BEGIN:VTIMEZONE
TZID:Europe/Berlin
BEGIN:DAYLIGHT
TZOFFSETFROM:+0100
TZOFFSETTO:+0200
TZNAME:CEST
DTSTART:20220327T010000
END:DAYLIGHT
BEGIN:STANDARD
TZOFFSETFROM:+0200
TZOFFSETTO:+0100
TZNAME:CET
DTSTART:20221030T010000
END:STANDARD
BEGIN:DAYLIGHT
TZOFFSETFROM:+0100
TZOFFSETTO:+0200
TZNAME:CEST
DTSTART:20230326T010000
END:DAYLIGHT
BEGIN:STANDARD
TZOFFSETFROM:+0200
TZOFFSETTO:+0100
TZNAME:CET
DTSTART:20231029T010000
END:STANDARD
BEGIN:DAYLIGHT
TZOFFSETFROM:+0100
TZOFFSETTO:+0200
TZNAME:CEST
DTSTART:20240331T010000
END:DAYLIGHT
BEGIN:STANDARD
TZOFFSETFROM:+0200
TZOFFSETTO:+0100
TZNAME:CET
DTSTART:20241027T010000
END:STANDARD
END:VTIMEZONE
BEGIN:VEVENT
DTSTART;TZID=Europe/Berlin:20230221T130000
DTEND;TZID=Europe/Berlin:20230221T170000
DTSTAMP:20260424T032613
CREATED:20230125T102059Z
LAST-MODIFIED:20230125T102119Z
UID:3662-1676984400-1676998800@behindertenverband-leipzig.de
SUMMARY:E-Rolli Wandergruppe
DESCRIPTION:Liebe Wanderfreunde\,auch im Februar werden wir uns wieder eine Ausstellung anschauen. Wir haben die Sonderausstellung im EG des Naturkundemuseums “Herman H. ter Meer“ ausgesucht. Der Präparator ist mit seiner Arbeitsweise bis heute Vorbild für seine Berufskollegen. Eine Führung wird uns seine Tierpräparate und einige Kleinplastiken näher bringen.Wir treffen uns also am Dienstag\, dem 21. Februar ab 13.00 Uhr vor dem Naturkundemuseum\, Lortzingstr. 3 in 04105 Leipzig. Bitte beachtet\, dass das Museum nur über eine Besuchertoilette\, aber nicht über ein Behinderten-WC verfügt. Nach dem gemeinsamen Museumsbesuch kann dann jeder den Tag nach seinen individuellen Wünschen ausklingen lassen.Bleibt gesund und neugierig. \n\n\n\nWir freuen uns!Eure Gaby und Roland
URL:https://behindertenverband-leipzig.de/event/e-rolli-wandergruppe-18/
END:VEVENT
END:VCALENDAR