BEGIN:VCALENDAR
VERSION:2.0
PRODID:-//Behindertenverband Leipzig e.V. - ECPv6.15.20//NONSGML v1.0//EN
CALSCALE:GREGORIAN
METHOD:PUBLISH
X-ORIGINAL-URL:https://behindertenverband-leipzig.de
X-WR-CALDESC:Veranstaltungen für Behindertenverband Leipzig e.V.
REFRESH-INTERVAL;VALUE=DURATION:PT1H
X-Robots-Tag:noindex
X-PUBLISHED-TTL:PT1H
BEGIN:VTIMEZONE
TZID:Europe/Berlin
BEGIN:DAYLIGHT
TZOFFSETFROM:+0100
TZOFFSETTO:+0200
TZNAME:CEST
DTSTART:20220327T010000
END:DAYLIGHT
BEGIN:STANDARD
TZOFFSETFROM:+0200
TZOFFSETTO:+0100
TZNAME:CET
DTSTART:20221030T010000
END:STANDARD
BEGIN:DAYLIGHT
TZOFFSETFROM:+0100
TZOFFSETTO:+0200
TZNAME:CEST
DTSTART:20230326T010000
END:DAYLIGHT
BEGIN:STANDARD
TZOFFSETFROM:+0200
TZOFFSETTO:+0100
TZNAME:CET
DTSTART:20231029T010000
END:STANDARD
BEGIN:DAYLIGHT
TZOFFSETFROM:+0100
TZOFFSETTO:+0200
TZNAME:CEST
DTSTART:20240331T010000
END:DAYLIGHT
BEGIN:STANDARD
TZOFFSETFROM:+0200
TZOFFSETTO:+0100
TZNAME:CET
DTSTART:20241027T010000
END:STANDARD
END:VTIMEZONE
BEGIN:VEVENT
DTSTART;TZID=Europe/Berlin:20230218T150000
DTEND;TZID=Europe/Berlin:20230218T190000
DTSTAMP:20260424T032932
CREATED:20230125T101620Z
LAST-MODIFIED:20230125T101813Z
UID:3659-1676732400-1676746800@behindertenverband-leipzig.de
SUMMARY:Faschingsparty: Kirche St. Martin
DESCRIPTION:Wir freuen uns\, dieses Jahr ENDLICH wieder zu unserer gemeinsamen Faschingsparty in der Sankt Martins Kirche in Grünau begrüßen zu dürfen. Uns erwartet ein buntes Rahmenprogramm aus Unterhaltung und Tanz\, Speis und Trank. Zu Gast haben wir dieses Jahr wieder den Grünauer Garnevals Glub (GGG)\, der uns den Nachmittag mit Sketch und Tanz versüßen wird. Für die musikalische Untermalung sorgt DJ Sondershaus. Ab 15.00 Uhr heißen wir alle herzlich willkommen\, bis 19.00 Uhr feiern wir gemeinsam. Anmeldeschluss ist der 14.02.22. Tel.: 0341 3065 120Katholische Kirche St. Martin\, Kolpingweg 1\, 04209 Leipzig
URL:https://behindertenverband-leipzig.de/event/faschingsparty-kirche-st-martin/
END:VEVENT
END:VCALENDAR