BEGIN:VCALENDAR
VERSION:2.0
PRODID:-//Behindertenverband Leipzig e.V. - ECPv6.15.20//NONSGML v1.0//EN
CALSCALE:GREGORIAN
METHOD:PUBLISH
X-ORIGINAL-URL:https://behindertenverband-leipzig.de
X-WR-CALDESC:Veranstaltungen für Behindertenverband Leipzig e.V.
REFRESH-INTERVAL;VALUE=DURATION:PT1H
X-Robots-Tag:noindex
X-PUBLISHED-TTL:PT1H
BEGIN:VTIMEZONE
TZID:Europe/Berlin
BEGIN:DAYLIGHT
TZOFFSETFROM:+0100
TZOFFSETTO:+0200
TZNAME:CEST
DTSTART:20220327T010000
END:DAYLIGHT
BEGIN:STANDARD
TZOFFSETFROM:+0200
TZOFFSETTO:+0100
TZNAME:CET
DTSTART:20221030T010000
END:STANDARD
BEGIN:DAYLIGHT
TZOFFSETFROM:+0100
TZOFFSETTO:+0200
TZNAME:CEST
DTSTART:20230326T010000
END:DAYLIGHT
BEGIN:STANDARD
TZOFFSETFROM:+0200
TZOFFSETTO:+0100
TZNAME:CET
DTSTART:20231029T010000
END:STANDARD
BEGIN:DAYLIGHT
TZOFFSETFROM:+0100
TZOFFSETTO:+0200
TZNAME:CEST
DTSTART:20240331T010000
END:DAYLIGHT
BEGIN:STANDARD
TZOFFSETFROM:+0200
TZOFFSETTO:+0100
TZNAME:CET
DTSTART:20241027T010000
END:STANDARD
END:VTIMEZONE
BEGIN:VEVENT
DTSTART;TZID=Europe/Berlin:20230111T140000
DTEND;TZID=Europe/Berlin:20230111T163000
DTSTAMP:20260424T050311
CREATED:20230102T131647Z
LAST-MODIFIED:20230102T131723Z
UID:3591-1673445600-1673454600@behindertenverband-leipzig.de
SUMMARY:Café inklusiv(e)
DESCRIPTION:… Herr Eck: Bilderreise durch Nordindien (Teil 1) \n\n\n\nWir fliegen von Berlin nach New Delhi und besuchen dort die große Freitagsmoschee\, das Indira Gandhi Grabmal\, einen Fikhttempel und erfahren Einiges über diese Religion. Weiterfahrt nach Jaipur im Bundesland Rajasthan. Die nächsten Stationen sind die StädteAmber\, Fatehpur\, Fikri und Aggra.Haus der Demokratie\, Café
URL:https://behindertenverband-leipzig.de/event/cafe-inklusive-39/
END:VEVENT
END:VCALENDAR