BEGIN:VCALENDAR
VERSION:2.0
PRODID:-//Behindertenverband Leipzig e.V. - ECPv6.15.20//NONSGML v1.0//EN
CALSCALE:GREGORIAN
METHOD:PUBLISH
X-WR-CALNAME:Behindertenverband Leipzig e.V.
X-ORIGINAL-URL:https://behindertenverband-leipzig.de
X-WR-CALDESC:Veranstaltungen für Behindertenverband Leipzig e.V.
REFRESH-INTERVAL;VALUE=DURATION:PT1H
X-Robots-Tag:noindex
X-PUBLISHED-TTL:PT1H
BEGIN:VTIMEZONE
TZID:Europe/Berlin
BEGIN:DAYLIGHT
TZOFFSETFROM:+0100
TZOFFSETTO:+0200
TZNAME:CEST
DTSTART:20210328T010000
END:DAYLIGHT
BEGIN:STANDARD
TZOFFSETFROM:+0200
TZOFFSETTO:+0100
TZNAME:CET
DTSTART:20211031T010000
END:STANDARD
BEGIN:DAYLIGHT
TZOFFSETFROM:+0100
TZOFFSETTO:+0200
TZNAME:CEST
DTSTART:20220327T010000
END:DAYLIGHT
BEGIN:STANDARD
TZOFFSETFROM:+0200
TZOFFSETTO:+0100
TZNAME:CET
DTSTART:20221030T010000
END:STANDARD
BEGIN:DAYLIGHT
TZOFFSETFROM:+0100
TZOFFSETTO:+0200
TZNAME:CEST
DTSTART:20230326T010000
END:DAYLIGHT
BEGIN:STANDARD
TZOFFSETFROM:+0200
TZOFFSETTO:+0100
TZNAME:CET
DTSTART:20231029T010000
END:STANDARD
END:VTIMEZONE
BEGIN:VEVENT
DTSTART;TZID=Europe/Berlin:20221205T140000
DTEND;TZID=Europe/Berlin:20221205T160000
DTSTAMP:20260424T062850
CREATED:20221201T081515Z
LAST-MODIFIED:20221201T081516Z
UID:3545-1670248800-1670256000@behindertenverband-leipzig.de
SUMMARY:Gruppe 40Plus
DESCRIPTION:Die Gruppe 40Plus trifft sich am Montag\, dem 05.12. in der Volkssolidarität von 14.00 bis 16.00 Uhr.Viele Grüße\, Andreas
URL:https://behindertenverband-leipzig.de/event/gruppe-40plus-27/
END:VEVENT
BEGIN:VEVENT
DTSTART;TZID=Europe/Berlin:20221205T170000
DTEND;TZID=Europe/Berlin:20221205T183000
DTSTAMP:20260424T062850
CREATED:20221201T075625Z
LAST-MODIFIED:20221201T083503Z
UID:3527-1670259600-1670265000@behindertenverband-leipzig.de
SUMMARY:Friedensgebet
DESCRIPTION:Wie jedes Jahr zum Beginn der Adventszeit findet das vom Behindertenverband Leipzig e.V. gestaltete Friedengebet in der Nikolaikirche statt. Das diesjährige Thema lautet „200 Jahre Gottesdienst in Gebärdensprache“. Wir heißen Sie herzlich willkommen!
URL:https://behindertenverband-leipzig.de/event/friedensgebet-3/
END:VEVENT
END:VCALENDAR