BEGIN:VCALENDAR
VERSION:2.0
PRODID:-//Behindertenverband Leipzig e.V. - ECPv6.15.20//NONSGML v1.0//EN
CALSCALE:GREGORIAN
METHOD:PUBLISH
X-WR-CALNAME:Behindertenverband Leipzig e.V.
X-ORIGINAL-URL:https://behindertenverband-leipzig.de
X-WR-CALDESC:Veranstaltungen für Behindertenverband Leipzig e.V.
REFRESH-INTERVAL;VALUE=DURATION:PT1H
X-Robots-Tag:noindex
X-PUBLISHED-TTL:PT1H
BEGIN:VTIMEZONE
TZID:Europe/Berlin
BEGIN:DAYLIGHT
TZOFFSETFROM:+0100
TZOFFSETTO:+0200
TZNAME:CEST
DTSTART:20210328T010000
END:DAYLIGHT
BEGIN:STANDARD
TZOFFSETFROM:+0200
TZOFFSETTO:+0100
TZNAME:CET
DTSTART:20211031T010000
END:STANDARD
BEGIN:DAYLIGHT
TZOFFSETFROM:+0100
TZOFFSETTO:+0200
TZNAME:CEST
DTSTART:20220327T010000
END:DAYLIGHT
BEGIN:STANDARD
TZOFFSETFROM:+0200
TZOFFSETTO:+0100
TZNAME:CET
DTSTART:20221030T010000
END:STANDARD
BEGIN:DAYLIGHT
TZOFFSETFROM:+0100
TZOFFSETTO:+0200
TZNAME:CEST
DTSTART:20230326T010000
END:DAYLIGHT
BEGIN:STANDARD
TZOFFSETFROM:+0200
TZOFFSETTO:+0100
TZNAME:CET
DTSTART:20231029T010000
END:STANDARD
END:VTIMEZONE
BEGIN:VEVENT
DTSTART;TZID=Europe/Berlin:20220924T080000
DTEND;TZID=Europe/Berlin:20220924T170000
DTSTAMP:20260424T111239
CREATED:20220826T071806Z
LAST-MODIFIED:20220908T093706Z
UID:3359-1664006400-1664038800@behindertenverband-leipzig.de
SUMMARY:Gruppe 40Plus
DESCRIPTION:Am 24. September besuchen wir das Weinfest in Meißen.Viele Grüße\, Andreas
URL:https://behindertenverband-leipzig.de/event/gruppe-40plus-23/
END:VEVENT
BEGIN:VEVENT
DTSTART;TZID=Europe/Berlin:20220924T193000
DTEND;TZID=Europe/Berlin:20220924T233000
DTSTAMP:20260424T111239
CREATED:20220826T071700Z
LAST-MODIFIED:20220908T093744Z
UID:3354-1664047800-1664062200@behindertenverband-leipzig.de
SUMMARY:Kulturgruppe "Kultflexx"
DESCRIPTION:Poetry Slam im Werk 2 \n\n\n\nSo geht sächsisch? So geht Poetry Slam! In Leipzig trifft sich diesen September die Krone der Poetry Slammerinnen und kämpft um den Titel der Sächsischen Meisterin 2022 und einen Startplatz bei den diesjährigen deutschsprachigen Meisterschaften. In zwei Vorrunden qualifizierten sich die jeweils 4 Slammer*innen für das Grande Finale im WERK 2. Die Finalisten werden am 24.09.2022 ihre heiteren Texte zum Besten geben. Ich freue mich\, für diese Veranstaltung Karten erworben zu haben\, um sie Euch im Rahmen unserer „Kultflexx“-Veranstaltungen für den Monat September anzubieten. Der Zugang zur Halle A ist rollstuhlgerecht und es gibt auch ein Behinderten-WC. Wer Lust auf einen humorvollen Abend hat\, melde sich bitte bis 15.09. im Büro des Behindertenverbandes an. Für Fahrdienst ist bitte selbst zu sorgen. \n\n\n\nVielleicht habe ich Euer Interesse geweckt und ich freue mich\, Euch zu einem mal etwas anderem Event begrüßen zu können.Karin Nnabuike
URL:https://behindertenverband-leipzig.de/event/kulturgruppe-kultflexx-9/
END:VEVENT
END:VCALENDAR