BEGIN:VCALENDAR
VERSION:2.0
PRODID:-//Behindertenverband Leipzig e.V. - ECPv6.15.20//NONSGML v1.0//EN
CALSCALE:GREGORIAN
METHOD:PUBLISH
X-WR-CALNAME:Behindertenverband Leipzig e.V.
X-ORIGINAL-URL:https://behindertenverband-leipzig.de
X-WR-CALDESC:Veranstaltungen für Behindertenverband Leipzig e.V.
REFRESH-INTERVAL;VALUE=DURATION:PT1H
X-Robots-Tag:noindex
X-PUBLISHED-TTL:PT1H
BEGIN:VTIMEZONE
TZID:Europe/Berlin
BEGIN:DAYLIGHT
TZOFFSETFROM:+0100
TZOFFSETTO:+0200
TZNAME:CEST
DTSTART:20210328T010000
END:DAYLIGHT
BEGIN:STANDARD
TZOFFSETFROM:+0200
TZOFFSETTO:+0100
TZNAME:CET
DTSTART:20211031T010000
END:STANDARD
BEGIN:DAYLIGHT
TZOFFSETFROM:+0100
TZOFFSETTO:+0200
TZNAME:CEST
DTSTART:20220327T010000
END:DAYLIGHT
BEGIN:STANDARD
TZOFFSETFROM:+0200
TZOFFSETTO:+0100
TZNAME:CET
DTSTART:20221030T010000
END:STANDARD
BEGIN:DAYLIGHT
TZOFFSETFROM:+0100
TZOFFSETTO:+0200
TZNAME:CEST
DTSTART:20230326T010000
END:DAYLIGHT
BEGIN:STANDARD
TZOFFSETFROM:+0200
TZOFFSETTO:+0100
TZNAME:CET
DTSTART:20231029T010000
END:STANDARD
END:VTIMEZONE
BEGIN:VEVENT
DTSTART;TZID=Europe/Berlin:20220907T140000
DTEND;TZID=Europe/Berlin:20220907T163000
DTSTAMP:20260424T105712
CREATED:20220728T123743Z
LAST-MODIFIED:20220826T061751Z
UID:3319-1662559200-1662568200@behindertenverband-leipzig.de
SUMMARY:Café inklusiv(e)
DESCRIPTION:… Informationsveranstaltung zum Thema Vorsorgevollmacht – leicht erklärt! \n\n\n\nVorsorge im Alter oder bei Krankheit ist sehr wichtig. Auf Wunsch unserer Gäste des Cafés inklusiv(e)\, konnten wir Herrn Güssmer vom Betreuungsverein e.V. gewinnen\, uns alles über die Vorsorgevollmacht\, die Betreuungsvorsorge und der Patientenverfügung zu berichten. Er erklärt verständlich und es können Fragen gestellt werden. Eine komplette individuelle Beratung ist an diesen Tag nicht möglich\, kann später aber organisiert werden. Kommen Sie einfach vorbei und informieren Sie sich.Haus der Demokratie\, Café
URL:https://behindertenverband-leipzig.de/event/cafe-inklusive-22/
END:VEVENT
END:VCALENDAR